BEGIN:VCALENDAR
VERSION:2.0
PRODID:-//ArtXcursion - ECPv6.15.20//NONSGML v1.0//EN
CALSCALE:GREGORIAN
METHOD:PUBLISH
X-WR-CALNAME:ArtXcursion
X-ORIGINAL-URL:https://artxcursion.com
X-WR-CALDESC:Events for ArtXcursion
REFRESH-INTERVAL;VALUE=DURATION:PT1H
X-Robots-Tag:noindex
X-PUBLISHED-TTL:PT1H
BEGIN:VTIMEZONE
TZID:America/Los_Angeles
BEGIN:DAYLIGHT
TZOFFSETFROM:-0800
TZOFFSETTO:-0700
TZNAME:PDT
DTSTART:20240310T100000
END:DAYLIGHT
BEGIN:STANDARD
TZOFFSETFROM:-0700
TZOFFSETTO:-0800
TZNAME:PST
DTSTART:20241103T090000
END:STANDARD
BEGIN:DAYLIGHT
TZOFFSETFROM:-0800
TZOFFSETTO:-0700
TZNAME:PDT
DTSTART:20250309T100000
END:DAYLIGHT
BEGIN:STANDARD
TZOFFSETFROM:-0700
TZOFFSETTO:-0800
TZNAME:PST
DTSTART:20251102T090000
END:STANDARD
BEGIN:DAYLIGHT
TZOFFSETFROM:-0800
TZOFFSETTO:-0700
TZNAME:PDT
DTSTART:20260308T100000
END:DAYLIGHT
BEGIN:STANDARD
TZOFFSETFROM:-0700
TZOFFSETTO:-0800
TZNAME:PST
DTSTART:20261101T090000
END:STANDARD
END:VTIMEZONE
BEGIN:VEVENT
DTSTART;TZID=America/Los_Angeles:20251209T180000
DTEND;TZID=America/Los_Angeles:20251209T200000
DTSTAMP:20260420T080609
CREATED:20250927T234819Z
LAST-MODIFIED:20250927T234819Z
UID:3819-1765303200-1765310400@artxcursion.com
SUMMARY:Brushes & Brew: ELF
DESCRIPTION:Artxcursion + Henhouse Brewing\, present Brushes and Brew Paint Night! \nJoin us in an introduction to color theory\, as we paint the night away! \nGuest will have the option of picking from 4-6 images that pertain to the evenings paint theme! \nArtist/Owner Alana Tillman of Artxcursion will be on hand\, providing you with the guidance and materials\, necessary to finish your very own masterpiece! \nTicket includes: \n• 9×12 Canvas. \n•Acrylic Paint \n• Materials \n• 2.5 hr guided paint session \n• One complimentary glass of Henhouse (Non-alcoholic options available \n•Select locations\, may have a food truck on site. If a food truck has not been scheduled\, food delivery services are encouraged.
URL:https://artxcursion.com/event/brushes-brew-elf/
LOCATION:Henhouse Brewing Company Petaluma\, 1333 N McDowell Blvd\, Petaluma\, CA\, 94954\, United States
CATEGORIES:Self Hosted
ATTACH;FMTTYPE=image/jpeg:https://artxcursion.com/wp-content/uploads/2025/09/IMG_20250924_142545_116-scaled.jpg
ORGANIZER;CN="ArtXcursion":MAILTO:info@artxcursion.com
END:VEVENT
BEGIN:VEVENT
DTSTART;TZID=America/Los_Angeles:20251214T113000
DTEND;TZID=America/Los_Angeles:20251214T143000
DTSTAMP:20260420T080609
CREATED:20250928T001847Z
LAST-MODIFIED:20250928T001847Z
UID:3834-1765711800-1765722600@artxcursion.com
SUMMARY:Santa Baby\, Pajamas & Pancakes\, Sip + Paint Social!
DESCRIPTION:Throw on your favorite holiday pj’s and join us for a festive mornings of creativity and fun!\n\n\nYou’re invited to the “Santa Baby” Pajama and Pancakes Sip + Paint Social!\nPut on your favorite holiday pajamas and join us for a festive morning of creativity! Guests will have the opportunity to paint a vintage-inspired St. Nick\, customized to their liking\, while enjoying holiday beverages and indulging in mini artisan pancakes.\nYour ticket includes:\n– 9×12 canvas \n\n– Paint and materials \n\n– 2.5-hour private paint session  \n\n– Artisan pancakes with toppings provided by Mimi’s Sweets Mini Pancakes  \n\n– Holiday-inspired Bellinis (non-alcoholic options are available)\nPlease note: If you have any food allergies or concerns\, contact us at least 3 days in advance so we can better accommodate you!
URL:https://artxcursion.com/event/santa-baby-pajamas-pancakes-sip-paint-social/
LOCATION:Flying Cloud\, 1200 Jacobsen Lane\, Petaluma\, CA\, 94954\, United States
ATTACH;FMTTYPE=image/jpeg:https://artxcursion.com/wp-content/uploads/2025/09/b983dadc5a1bc11a48a2744dbe3e7037.jpg
END:VEVENT
BEGIN:VEVENT
DTSTART;TZID=America/Los_Angeles:20251217T180000
DTEND;TZID=America/Los_Angeles:20251217T203000
DTSTAMP:20260420T080609
CREATED:20251024T185726Z
LAST-MODIFIED:20251026T055411Z
UID:3838-1765994400-1766003400@artxcursion.com
SUMMARY:All Aboard PJ's & Paint
DESCRIPTION:We’re pulling into the station\, to bring you the most whimsical and creative night of the season \nJoin us with our friends at Golden State Cider for POLAR EXPRESS\, PJS + PAINT NIGHT!\nBe whisked away to a time where\, holiday PJ’s\, cozy vibes and good company were all you needed! \nGuest will have the opportunity to choose from 3 different Polar Express inspired motifs as painting inspo for the evenings event. \nFor a lil extra Holiday Spirit\, come in your favorite PJ’S! \nArtist/Owner Alana Tillman will be on hand to inspire your designs and offer you helpful tips and tricks to create your very own masterpiece. \nTicket includes: \n\n9×12 Canvas.\nPaint + Materials.\nStencils.\n2.5 GUIDED PAINT SESSION. With encouragement + free will to finish your piece in the second half of the session on your own.\nChai hot toddy! Spiced tea with simple honey\, brandy garnished with dehydrated orange. (non-alcoholic options available.)\n\n*Pro-tip\, for an exceptional experience\, order food from a select list of Barlow restaurants\, to be delivered right to your table. See www.drinkgoldenstate.com for options. \nAges 10+
URL:https://artxcursion.com/event/all-aboard-pjs-paint/
LOCATION:Golden State Cider Taproom\, 180 Morris Street\, #Ste. 150\, Sebastopol\, CA\, 95472\, United States
CATEGORIES:Self Hosted
ATTACH;FMTTYPE=image/png:https://artxcursion.com/wp-content/uploads/2025/10/All-Aboard-Paint-Night.png
ORGANIZER;CN="ArtXcursion":MAILTO:info@artxcursion.com
END:VEVENT
BEGIN:VEVENT
DTSTART;TZID=America/Los_Angeles:20251218T180000
DTEND;TZID=America/Los_Angeles:20251218T200000
DTSTAMP:20260420T080609
CREATED:20250927T231422Z
LAST-MODIFIED:20251125T192323Z
UID:3806-1766080800-1766088000@artxcursion.com
SUMMARY:Brushes & Brew: NUTCRACKER
DESCRIPTION:Artxcursion + Henhouse Brewing\, present Brushes and Brew Paint Night! \nJoin us in an introduction to color theory\, as we paint the night away! \nGuest will have the option of picking from 4-6 images that pertain to the evenings paint theme! \nArtist/Owner Alana Tillman of Artxcursion will be on hand\, providing you with the guidance and materials\, necessary to finish your very own masterpiece! \nTicket includes: \n• 9×12 Canvas. \n•Acrylic Paint \n• Materials \n• 2.5 hr guided paint session \n• One complimentary glass of Henhouse (Non-alcoholic options available \n•Select locations\, may have a food truck on site. If a food truck has not been scheduled\, food delivery services are encouraged.
URL:https://artxcursion.com/event/brushes_brew_nutcracker/
LOCATION:HenHouse Brewing Company\, 322 Bellevue Avenue\, Santa Rosa\, CA\, 95407\, United States
CATEGORIES:Self Hosted
ATTACH;FMTTYPE=image/jpeg:https://artxcursion.com/wp-content/uploads/2025/09/IMG_20250924_084917_462.jpg
ORGANIZER;CN="ArtXcursion":MAILTO:info@artxcursion.com
END:VEVENT
END:VCALENDAR