BEGIN:VCALENDAR
VERSION:2.0
PRODID:-//ArtXcursion - ECPv6.15.20//NONSGML v1.0//EN
CALSCALE:GREGORIAN
METHOD:PUBLISH
X-ORIGINAL-URL:https://artxcursion.com
X-WR-CALDESC:Events for ArtXcursion
REFRESH-INTERVAL;VALUE=DURATION:PT1H
X-Robots-Tag:noindex
X-PUBLISHED-TTL:PT1H
BEGIN:VTIMEZONE
TZID:America/Los_Angeles
BEGIN:DAYLIGHT
TZOFFSETFROM:-0800
TZOFFSETTO:-0700
TZNAME:PDT
DTSTART:20240310T100000
END:DAYLIGHT
BEGIN:STANDARD
TZOFFSETFROM:-0700
TZOFFSETTO:-0800
TZNAME:PST
DTSTART:20241103T090000
END:STANDARD
BEGIN:DAYLIGHT
TZOFFSETFROM:-0800
TZOFFSETTO:-0700
TZNAME:PDT
DTSTART:20250309T100000
END:DAYLIGHT
BEGIN:STANDARD
TZOFFSETFROM:-0700
TZOFFSETTO:-0800
TZNAME:PST
DTSTART:20251102T090000
END:STANDARD
BEGIN:DAYLIGHT
TZOFFSETFROM:-0800
TZOFFSETTO:-0700
TZNAME:PDT
DTSTART:20260308T100000
END:DAYLIGHT
BEGIN:STANDARD
TZOFFSETFROM:-0700
TZOFFSETTO:-0800
TZNAME:PST
DTSTART:20261101T090000
END:STANDARD
END:VTIMEZONE
BEGIN:VEVENT
DTSTART;TZID=America/Los_Angeles:20251014T180000
DTEND;TZID=America/Los_Angeles:20251014T200000
DTSTAMP:20260420T112028
CREATED:20250806T225520Z
LAST-MODIFIED:20250904T204723Z
UID:3348-1760464800-1760472000@artxcursion.com
SUMMARY:Bad And Boo-Jee Paint Night!
DESCRIPTION:Come on out for a SPOOKTACULAR evening of ghostly painting!\n\n\nArtxcursion Present to you\, Brushes + Brew: Bad and Boo-jee Paint Night!\nGrab your Boos and come on out\, for an evening of\, cold Brews + Painting!\nGuest will have the choice of choosing from 4-6 Ghost and Ghoul inspired images\, as painting inspiration!\nFor a lil extra Spirit\, come in your Halloween costume!\nArtist/Owner Alana Tillman will be on hand to inspire your designs and offer you helpful tips and tricks to create your very own masterpiece.\nTicket includes:\n• 9×12 Canvas.\n•Paint + Materials.\n•2.5 guided paint session\n• One complimentary glass of Henhouse (Non-alcoholic options available)\n•Select locations\, may have a food truck on site. If a food truck has not been scheduled\, food delivery services are encouraged.
URL:https://artxcursion.com/event/bad-and-boo-jee-paint-night/
LOCATION:HenHouse Brewing Company Palace of Barrels\, 1333 North McDowell Boulevard\, Petaluma\, CA\, 94954\, United States
ATTACH;FMTTYPE=image/jpeg:https://artxcursion.com/wp-content/uploads/2025/08/9cb725ce97a934d608793c427257bcdc.jpg
END:VEVENT
BEGIN:VEVENT
DTSTART;TZID=America/Los_Angeles:20251022T180000
DTEND;TZID=America/Los_Angeles:20251022T200000
DTSTAMP:20260420T112028
CREATED:20250825T022025Z
LAST-MODIFIED:20250904T204723Z
UID:3369-1761156000-1761163200@artxcursion.com
SUMMARY:Practical Magic Paint Night!
DESCRIPTION:If you have an infinity for Practical Magic\, then this paint nights is for you!\n\n\nIf you throw spilt salt over your shoulder and grow lavender by your gate….we’ll host a Practical Magic themed paint night! (Shhh we were going to anyway)\nJoin us for the Practical Magic inspired Paint Night Oct 22nd\nWe’ll play the movie Practical Magic as you paint the night away!\nGuest will have the choice of choosing from 4-6 Practical Magic inspired images\, as painting inspiration!\nFor a lil extra Spirit\, come in your Halloween costume!\nArtist/Owner Alana Tillman will be on hand to inspire your designs and offer you helpful tips and tricks to create your very own masterpiece.\nTicket includes:\n• 9×12 Canvas.\n•Paint + Materials.\n•Stencils.\n•2.5 guided paint session\n• Choice of one Golden State Cider or Seismic Brewing(Non-alcoholic options available)\n*Pro-tip\, for an exceptional experience\, order food from a select list of Barlow restaurants\, to be delivered right to your table. See www.drinkgoldenstate.com for options.
URL:https://artxcursion.com/event/practical-magic-paint-night/
LOCATION:Golden State Cider Taproom\, 180 Morris Street\, #Ste. 150\, Sebastopol\, CA\, 95472\, United States
ATTACH;FMTTYPE=image/jpeg:https://artxcursion.com/wp-content/uploads/2025/08/b1ca26b7209ed6c60d4a13bec8e1fffd.jpg
END:VEVENT
BEGIN:VEVENT
DTSTART;TZID=America/Los_Angeles:20251023T180000
DTEND;TZID=America/Los_Angeles:20251023T200000
DTSTAMP:20260420T112028
CREATED:20250806T225523Z
LAST-MODIFIED:20250904T204724Z
UID:3350-1761242400-1761249600@artxcursion.com
SUMMARY:Monster Mash Paint Night
DESCRIPTION:Hey all you Ghost + Ghouls\, come on out for a SPOOKTACULAR Paint Night!\n\n\nArtxcursion Present to you\, Brushes + MONSTER MASH Paint Night!\nGrab your GHOULS and come on out\, for an evening of\, cold Brews + Painting!\nGuest will have the choice of choosing from 4-6 Monster Mash inspired images\, as painting inspiration!\nFor a lil extra Spirit\, come in your Halloween costume!\nArtist/Owner Alana Tillman will be on hand to inspire your designs and offer you helpful tips and tricks to create your very own masterpiece.\nTicket includes:\n• 9×12 Canvas.\n•Paint + Materials.\n•2.5 guided paint session\n• One complimentary glass of Henhouse (Non-alcoholic options available)\n•Select locations\, may have a food truck on site. If a food truck has not been scheduled\, food delivery services are encouraged.
URL:https://artxcursion.com/event/monster-mash-paint-night/
LOCATION:HenHouse Brewing Company\, 322 Bellevue Avenue\, Santa Rosa\, CA\, 95407\, United States
ATTACH;FMTTYPE=image/jpeg:https://artxcursion.com/wp-content/uploads/2025/08/5a8ef46f1a8512ae380acbbfa2cfa8cb.jpg
END:VEVENT
END:VCALENDAR