BEGIN:VCALENDAR
VERSION:2.0
PRODID:-//ArtXcursion - ECPv6.15.20//NONSGML v1.0//EN
CALSCALE:GREGORIAN
METHOD:PUBLISH
X-WR-CALNAME:ArtXcursion
X-ORIGINAL-URL:https://artxcursion.com
X-WR-CALDESC:Events for ArtXcursion
REFRESH-INTERVAL;VALUE=DURATION:PT1H
X-Robots-Tag:noindex
X-PUBLISHED-TTL:PT1H
BEGIN:VTIMEZONE
TZID:America/Los_Angeles
BEGIN:DAYLIGHT
TZOFFSETFROM:-0800
TZOFFSETTO:-0700
TZNAME:PDT
DTSTART:20240310T100000
END:DAYLIGHT
BEGIN:STANDARD
TZOFFSETFROM:-0700
TZOFFSETTO:-0800
TZNAME:PST
DTSTART:20241103T090000
END:STANDARD
BEGIN:DAYLIGHT
TZOFFSETFROM:-0800
TZOFFSETTO:-0700
TZNAME:PDT
DTSTART:20250309T100000
END:DAYLIGHT
BEGIN:STANDARD
TZOFFSETFROM:-0700
TZOFFSETTO:-0800
TZNAME:PST
DTSTART:20251102T090000
END:STANDARD
BEGIN:DAYLIGHT
TZOFFSETFROM:-0800
TZOFFSETTO:-0700
TZNAME:PDT
DTSTART:20260308T100000
END:DAYLIGHT
BEGIN:STANDARD
TZOFFSETFROM:-0700
TZOFFSETTO:-0800
TZNAME:PST
DTSTART:20261101T090000
END:STANDARD
END:VTIMEZONE
BEGIN:VEVENT
DTSTART;TZID=America/Los_Angeles:20250606T180000
DTEND;TZID=America/Los_Angeles:20250606T200000
DTSTAMP:20260421T034848
CREATED:20250512T221812Z
LAST-MODIFIED:20250610T173931Z
UID:2725-1749232800-1749240000@artxcursion.com
SUMMARY:Classic Cars & Canvas Paint Night!
DESCRIPTION:Calling all car enthusiasts\, grab your crew and come on out to paint your very own masterpiece!\n\n\nArtXcursion and Top Shelf Barbershop are joining forces to bring you Classic Cars & Canvas \n The Top Shelf Barbershop team has been in business for a combined 10+ years and is excited to share what new things they have going on within the community.  \nCome check out the shop and create some show stopping artwork! \n We’ll provide Classic car images and stencils with a comprehensive tutorial on color mixing and composition.  \nAlana Tillman\, Artist and owner of ArtXcursion\, will be on hand to offer you helpful tips and tricks to create your very own masterpiece.  \nTicket includes  \n• 9×12 Canvas  \n•Acrylic paint/materials/Stencils  \n•2 hours guided paint session •Small bites  \n•complimentary glass of wine (Non-alcoholic options available) \n*ages 10+
URL:https://artxcursion.com/event/classic-cars-canvas-paint-night/
LOCATION:Top Shelf Barbershop\, 308 South A Street\, Santa Rosa\, CA\, 95401\, United States
ATTACH;FMTTYPE=image/jpeg:https://artxcursion.com/wp-content/uploads/2025/05/76ff3e23950697609034c43aebb31713.jpg
END:VEVENT
BEGIN:VEVENT
DTSTART;TZID=America/Los_Angeles:20250610T180000
DTEND;TZID=America/Los_Angeles:20250610T200000
DTSTAMP:20260421T034848
CREATED:20250610T173905Z
LAST-MODIFIED:20250610T173944Z
UID:2780-1749578400-1749585600@artxcursion.com
SUMMARY:Happy Cows Paint Night!
DESCRIPTION:Join us for the Happy Cow paint night!\n\n\nWe’re joining forces with Henhouse Brewing to bring you The Happy Cow Paint Night!\nJoin us\, for evening of happy Cow painting!\nBe delighted to an introduction to color theory\, as we paint the night away.\nGuest will have the option of picking from 4-6 images that pertain to the evenings paint theme.\nWhether you’d like to paint a cow wearing a hat or a cow on a rolling hill\, we have you covered!\nArtist/Owner Alana Tillman of Artxcursion will be on hand\, providing you with the guidance and materials\, necessary to finish your very own masterpiece!\nTicket includes:\n• 9×12 Canvas\n•2 hr Paint Session\n• Paint + Materials\n• Complimentary glass of Henhouse beer (Non-alcoholic options available )\n—————-‐——————–\n*Pro-tip\, for an exceptional experience\, order food from the food truck on site. If a food truck has not been scheduled\, delivery food service is encouraged.
URL:https://artxcursion.com/event/happy-cows-paint-night/
LOCATION:HenHouse Brewing Company Palace of Barrels\, 1333 North McDowell Boulevard\, Petaluma\, CA\, 94954\, United States
ATTACH;FMTTYPE=image/jpeg:https://artxcursion.com/wp-content/uploads/2025/06/a24a28f3fdac9ed53f6cbafee424ddc3.jpg
END:VEVENT
BEGIN:VEVENT
DTSTART;TZID=America/Los_Angeles:20250618T180000
DTEND;TZID=America/Los_Angeles:20250618T200000
DTSTAMP:20260421T034848
CREATED:20250329T065242Z
LAST-MODIFIED:20250623T153900Z
UID:2705-1750269600-1750276800@artxcursion.com
SUMMARY:Giddy Up Paint Night!
DESCRIPTION:Howdy Parders\, come on out to an awesome night of creativity with ArtXcursion!\n\n\nHowdy all you\, guys + gals! Throw on your favorite boots and hat and come on out to the GIDDY UP PAINT NIGHT!! \n \nBe delighted to an introduction to color theory\, as we paint the night away! \n \nGuest will have the option of picking from 4-6 images that pertain to a Buckaroo/Giddy up paint theme  \n \nArtist/Owner Alana Tillman of Artxcursion will be on hand\, providing you with the guidance and materials\, necessary to finish your very own masterpiece! \n \nTicket includes: \n \n• 9×12 Canvas. \n \n•Acrylic Paint \n \n• Art Materials + Stencils  \n \n• 2.5 hr guided paint session \n \n• One complimentary glass of Golden State Cider/ Seismic Brewing Co beverage \n \n—————‐——————– \n \n*Pro-tip\, for an exceptional experience\, order food from a select list of Barlow restaurants\, to be delivered right to your table. See www.drinkgoldenstate.com for options.
URL:https://artxcursion.com/event/giddy-up-paint-night/
LOCATION:Golden State Cider Taproom\, 180 Morris Street\, #Ste. 150\, Sebastopol\, CA\, 95472\, United States
ATTACH;FMTTYPE=image/jpeg:https://artxcursion.com/wp-content/uploads/2025/03/734890268ecb52f62886f0f2eba44d1a.jpg
END:VEVENT
BEGIN:VEVENT
DTSTART;TZID=America/Los_Angeles:20250619T180000
DTEND;TZID=America/Los_Angeles:20250619T200000
DTSTAMP:20260421T034848
CREATED:20250610T173915Z
LAST-MODIFIED:20250623T153930Z
UID:2783-1750356000-1750363200@artxcursion.com
SUMMARY:Summer Sunsets Paint Night!
DESCRIPTION:Celebrate summer with a Sunset themed paint night\n\n\nBe delighted to an introduction to color theory\, as we paint the night away. \n \nGuest will have the option of picking from 4-6 images that pertain to the evenings paint theme.  \n \nArtist/Owner Alana Tillman of Artxcursion will be on hand\, providing you with the guidance and materials\, necessary to finish your very own masterpiece! \n \nTicket includes: \n \n• 9×12 Canvas  \n \n•2 hr Paint Session  \n \n• Paint + Materials \n \n• Complimentary glass of Henhouse beer (Non-alcoholic options available ) \n—————-‐——————– \n \n*Pro-tip\, for an exceptional experience\, order food from the food truck on site. If a food truck has not been scheduled\, delivery food service is encouraged.
URL:https://artxcursion.com/event/summer-sunsets-paint-night-2/
LOCATION:HenHouse Brewing Company\, 322 Bellevue Avenue\, Santa Rosa\, CA\, 95407\, United States
ATTACH;FMTTYPE=image/jpeg:https://artxcursion.com/wp-content/uploads/2025/06/21ee3143e0686cb77a1e4ecd9b2a2364.jpg
END:VEVENT
END:VCALENDAR