BEGIN:VCALENDAR
VERSION:2.0
PRODID:-//ArtXcursion - ECPv6.15.20//NONSGML v1.0//EN
CALSCALE:GREGORIAN
METHOD:PUBLISH
X-ORIGINAL-URL:https://artxcursion.com
X-WR-CALDESC:Events for ArtXcursion
REFRESH-INTERVAL;VALUE=DURATION:PT1H
X-Robots-Tag:noindex
X-PUBLISHED-TTL:PT1H
BEGIN:VTIMEZONE
TZID:America/Los_Angeles
BEGIN:DAYLIGHT
TZOFFSETFROM:-0800
TZOFFSETTO:-0700
TZNAME:PDT
DTSTART:20240310T100000
END:DAYLIGHT
BEGIN:STANDARD
TZOFFSETFROM:-0700
TZOFFSETTO:-0800
TZNAME:PST
DTSTART:20241103T090000
END:STANDARD
BEGIN:DAYLIGHT
TZOFFSETFROM:-0800
TZOFFSETTO:-0700
TZNAME:PDT
DTSTART:20250309T100000
END:DAYLIGHT
BEGIN:STANDARD
TZOFFSETFROM:-0700
TZOFFSETTO:-0800
TZNAME:PST
DTSTART:20251102T090000
END:STANDARD
BEGIN:DAYLIGHT
TZOFFSETFROM:-0800
TZOFFSETTO:-0700
TZNAME:PDT
DTSTART:20260308T100000
END:DAYLIGHT
BEGIN:STANDARD
TZOFFSETFROM:-0700
TZOFFSETTO:-0800
TZNAME:PST
DTSTART:20261101T090000
END:STANDARD
END:VTIMEZONE
BEGIN:VEVENT
DTSTART;TZID=America/Los_Angeles:20250416T180000
DTEND;TZID=America/Los_Angeles:20250416T200000
DTSTAMP:20260421T070302
CREATED:20250117T160638Z
LAST-MODIFIED:20250126T031734Z
UID:2555-1744826400-1744833600@artxcursion.com
SUMMARY:Sea Otters + More Marine Wildlife of California\, Paint Night!
DESCRIPTION:Support the Sea Otter Savvy Organization with a Marine Wildlife Paint Night!\n\n\nThrilled to announce that\, during the month of April when you purchase a pint or two with Golden State Cider/Seismic Brewing\, a portion of the proceeds will go to the Sea Otter Savvy Organization.\nSea Otter Savvy strives to foster community awareness and involvement to reduce human-caused disturbance to sea otters and promote responsible wildlife viewing.\nIn Celebration we’re hosting a Sea Otter + Marine wildlife of California\, paint night!\nGuests will have the opportunity to pick from a selection of 4-6 images pertaining to Sea Otters and Marine wildlife.\nArtist/Owner Alana Tillman of Artxcursion will be on hand\, providing you with the guidance and materials\, necessary to finish your very own masterpiece!\nTicket includes:\n• 9×12 Canvas\n•2 hr Paint Session\n• Paint\, Materials + stencils\n• Complimentary glass of Golden State Cider or Seismic Brewing\n—————-‐——————–\n*Pro-tip\, for an exceptional experience\, order food from a select list of Barlow restaurants\, to be delivered right to your table. See www.drinkgoldenstate.com for options
URL:https://artxcursion.com/event/sea-otters-more-marine-wildlife-of-california-paint-night/
LOCATION:Golden State Cider Taproom\, 180 Morris Street\, #Ste. 150\, Sebastopol\, CA\, 95472\, United States
ATTACH;FMTTYPE=image/jpeg:https://artxcursion.com/wp-content/uploads/2025/01/8894d3079f929bb8d1316395e2f0e6b6-1.jpg
END:VEVENT
BEGIN:VEVENT
DTSTART;TZID=America/Los_Angeles:20250417T180000
DTEND;TZID=America/Los_Angeles:20250417T200000
DTSTAMP:20260421T070302
CREATED:20250325T041736Z
LAST-MODIFIED:20250325T041736Z
UID:2691-1744912800-1744920000@artxcursion.com
SUMMARY:Cherry Blossom Paint Night!
DESCRIPTION:Join us for a blooming spring inspired paint night!\n\n\nBe delighted to an introduction to color theory\, as we paint the night away! \n \nGuest will have the option of picking from 4-6 images that pertain to the CHERRY BLOSSOM theme. \n \nArtist/Owner Alana Tillman of Artxcursion will be on hand\, providing you with the guidance and materials\, necessary to finish your very own masterpiece! \n \nTicket includes: \n \n• 9×12 Canvas. \n \n•Acrylic Paint \n \n• Art Materials + Stencils  \n \n• 2.5 hr guided paint session \n \n• One complimentary glass of Henhouse (Non-alcoholic options available \n \n•Select locations\, may have a food truck on site. If a food truck has not been scheduled\, food delivery services are encouraged
URL:https://artxcursion.com/event/cherry-blossom-paint-night-2/
LOCATION:HenHouse Brewing Company\, 322 Bellevue Avenue\, Santa Rosa\, CA\, 95407\, United States
ATTACH;FMTTYPE=image/jpeg:https://artxcursion.com/wp-content/uploads/2025/03/f1f1b9a14a55318a40ad9a2cd1179fb9-1.jpg
END:VEVENT
BEGIN:VEVENT
DTSTART;TZID=America/Los_Angeles:20250424T180000
DTEND;TZID=America/Los_Angeles:20250424T200000
DTSTAMP:20260421T070302
CREATED:20250325T041739Z
LAST-MODIFIED:20250325T041739Z
UID:2694-1745517600-1745524800@artxcursion.com
SUMMARY:Who Rules The Roost Paint Night!
DESCRIPTION:Calling all you Hens and Roosters\, join us for a Henhouse Brewing paint night!\n\n\nJoin us in an introduction to color theory\, as we paint the night away! \n \nGuest will have the option of picking from 4-6 images that pertain to the Rooster + Hen paint theme! \n \nArtist/Owner Alana Tillman of Artxcursion will be on hand\, providing you with the guidance and materials\, necessary to finish your very own masterpiece! \n \nTicket includes: \n \n• 9×12 Canvas. \n \n•Acrylic Paint \n \n• Art Materials + Stencils  \n \n• 2.5 hr guided paint session \n \n• One complimentary glass of Henhouse (Non-alcoholic options available \n \n•Select locations\, may have a food truck on site. If a food truck has not been scheduled\, food delivery services are encouraged.
URL:https://artxcursion.com/event/who-rules-the-roost-paint-night-2/
LOCATION:HenHouse Brewing Company\, 322 Bellevue Avenue\, Santa Rosa\, CA\, 95407\, United States
ATTACH;FMTTYPE=image/jpeg:https://artxcursion.com/wp-content/uploads/2025/03/b0d4febbd92b04ae1a05975eaeab9a80.jpg
END:VEVENT
END:VCALENDAR