BEGIN:VCALENDAR
VERSION:2.0
PRODID:-//ArtXcursion - ECPv6.15.20//NONSGML v1.0//EN
CALSCALE:GREGORIAN
METHOD:PUBLISH
X-ORIGINAL-URL:https://artxcursion.com
X-WR-CALDESC:Events for ArtXcursion
REFRESH-INTERVAL;VALUE=DURATION:PT1H
X-Robots-Tag:noindex
X-PUBLISHED-TTL:PT1H
BEGIN:VTIMEZONE
TZID:America/Los_Angeles
BEGIN:DAYLIGHT
TZOFFSETFROM:-0800
TZOFFSETTO:-0700
TZNAME:PDT
DTSTART:20250309T100000
END:DAYLIGHT
BEGIN:STANDARD
TZOFFSETFROM:-0700
TZOFFSETTO:-0800
TZNAME:PST
DTSTART:20251102T090000
END:STANDARD
BEGIN:DAYLIGHT
TZOFFSETFROM:-0800
TZOFFSETTO:-0700
TZNAME:PDT
DTSTART:20260308T100000
END:DAYLIGHT
BEGIN:STANDARD
TZOFFSETFROM:-0700
TZOFFSETTO:-0800
TZNAME:PST
DTSTART:20261101T090000
END:STANDARD
BEGIN:DAYLIGHT
TZOFFSETFROM:-0800
TZOFFSETTO:-0700
TZNAME:PDT
DTSTART:20270314T100000
END:DAYLIGHT
BEGIN:STANDARD
TZOFFSETFROM:-0700
TZOFFSETTO:-0800
TZNAME:PST
DTSTART:20271107T090000
END:STANDARD
END:VTIMEZONE
BEGIN:VEVENT
DTSTART;TZID=America/Los_Angeles:20260422T180000
DTEND;TZID=America/Los_Angeles:20260422T200000
DTSTAMP:20260420T024657
CREATED:20260228T073447Z
LAST-MODIFIED:20260228T073854Z
UID:4162-1776880800-1776888000@artxcursion.com
SUMMARY:Apple Blossom
DESCRIPTION:We’re joining forces with Golden State Cider to bring you…. \nApple Blossom Paint Night! \nBe delighted to an introduction to color theory\, as we paint the night away. \nGuest will have the option of picking from 4-6 images that pertain to the Apple Blossom theme. \nArtist/Owner Alana Tillman of Artxcursion will be on hand\, providing you with the guidance and materials\, necessary to finish your very own masterpiece! \nTicket includes: \n\n9×12 Canvas\n2 hr Paint Session\nPaint + Materials\nchoice of complimentary glass of Golden State Cider\n\n—————-‐——————– \n*Pro-tip\, for an exceptional experience\, order food from a select list of Barlow restaurants\, to be delivered right to your table. See www.drinkgoldenstate.com for options.
URL:https://artxcursion.com/event/apple-blossom/
LOCATION:Golden State Cider Taproom\, 180 Morris Street\, #Ste. 150\, Sebastopol\, CA\, 95472\, United States
CATEGORIES:Self Hosted
ATTACH;FMTTYPE=image/jpeg:https://artxcursion.com/wp-content/uploads/2026/02/IMG_20260227_111617_752.jpg
ORGANIZER;CN="ArtXcursion":MAILTO:info@artxcursion.com
END:VEVENT
END:VCALENDAR