BEGIN:VCALENDAR
VERSION:2.0
PRODID:-//ArtXcursion - ECPv6.15.20//NONSGML v1.0//EN
CALSCALE:GREGORIAN
METHOD:PUBLISH
X-ORIGINAL-URL:https://artxcursion.com
X-WR-CALDESC:Events for ArtXcursion
REFRESH-INTERVAL;VALUE=DURATION:PT1H
X-Robots-Tag:noindex
X-PUBLISHED-TTL:PT1H
BEGIN:VTIMEZONE
TZID:America/Los_Angeles
BEGIN:DAYLIGHT
TZOFFSETFROM:-0800
TZOFFSETTO:-0700
TZNAME:PDT
DTSTART:20250309T100000
END:DAYLIGHT
BEGIN:STANDARD
TZOFFSETFROM:-0700
TZOFFSETTO:-0800
TZNAME:PST
DTSTART:20251102T090000
END:STANDARD
BEGIN:DAYLIGHT
TZOFFSETFROM:-0800
TZOFFSETTO:-0700
TZNAME:PDT
DTSTART:20260308T100000
END:DAYLIGHT
BEGIN:STANDARD
TZOFFSETFROM:-0700
TZOFFSETTO:-0800
TZNAME:PST
DTSTART:20261101T090000
END:STANDARD
BEGIN:DAYLIGHT
TZOFFSETFROM:-0800
TZOFFSETTO:-0700
TZNAME:PDT
DTSTART:20270314T100000
END:DAYLIGHT
BEGIN:STANDARD
TZOFFSETFROM:-0700
TZOFFSETTO:-0800
TZNAME:PST
DTSTART:20271107T090000
END:STANDARD
END:VTIMEZONE
BEGIN:VEVENT
DTSTART;TZID=America/Los_Angeles:20260219T180000
DTEND;TZID=America/Los_Angeles:20260219T200000
DTSTAMP:20260420T062930
CREATED:20260107T001701Z
LAST-MODIFIED:20260123T234044Z
UID:4010-1771524000-1771531200@artxcursion.com
SUMMARY:Brushes + Brew - Love Bugs
DESCRIPTION:Join us with our friends at HenHouse for a night of Brushes + Brew!\n\nBe delighted to an introduction to color theory\, as we paint the night away!\n\nGuest will have the option of picking from 4-6 images that pertain to the evenings paint theme.\n\nArtist/Owner Alana Tillman of Artxcursion will be on hand\, providing you with the guidance and materials\, necessary to finish your very own masterpiece!\n\nTicket includes:\n\n9×12 Canvas\nPaint + Materials\n2.5 hour session.\nOne complimentary glass of Henhouse (Non-alcoholic options available)\n\n•Select locations\, may have a food truck on site. If a food truck has not been scheduled\, food delivery services are encouraged
URL:https://artxcursion.com/event/brushes-brew-love-birds-2/
LOCATION:HenHouse Brewing Company\, 322 Bellevue Avenue\, Santa Rosa\, CA\, 95407\, United States
CATEGORIES:Self Hosted
ATTACH;FMTTYPE=image/jpeg:https://artxcursion.com/wp-content/uploads/2026/01/Brushes_Brew_Love_Bird-2-19-26-scaled.jpg
ORGANIZER;CN="ArtXcursion":MAILTO:info@artxcursion.com
END:VEVENT
END:VCALENDAR