BEGIN:VCALENDAR
VERSION:2.0
PRODID:-//ArtXcursion - ECPv6.15.20//NONSGML v1.0//EN
CALSCALE:GREGORIAN
METHOD:PUBLISH
X-WR-CALNAME:ArtXcursion
X-ORIGINAL-URL:https://artxcursion.com
X-WR-CALDESC:Events for ArtXcursion
REFRESH-INTERVAL;VALUE=DURATION:PT1H
X-Robots-Tag:noindex
X-PUBLISHED-TTL:PT1H
BEGIN:VTIMEZONE
TZID:America/Los_Angeles
BEGIN:DAYLIGHT
TZOFFSETFROM:-0800
TZOFFSETTO:-0700
TZNAME:PDT
DTSTART:20250309T100000
END:DAYLIGHT
BEGIN:STANDARD
TZOFFSETFROM:-0700
TZOFFSETTO:-0800
TZNAME:PST
DTSTART:20251102T090000
END:STANDARD
BEGIN:DAYLIGHT
TZOFFSETFROM:-0800
TZOFFSETTO:-0700
TZNAME:PDT
DTSTART:20260308T100000
END:DAYLIGHT
BEGIN:STANDARD
TZOFFSETFROM:-0700
TZOFFSETTO:-0800
TZNAME:PST
DTSTART:20261101T090000
END:STANDARD
BEGIN:DAYLIGHT
TZOFFSETFROM:-0800
TZOFFSETTO:-0700
TZNAME:PDT
DTSTART:20270314T100000
END:DAYLIGHT
BEGIN:STANDARD
TZOFFSETFROM:-0700
TZOFFSETTO:-0800
TZNAME:PST
DTSTART:20271107T090000
END:STANDARD
END:VTIMEZONE
BEGIN:VEVENT
DTSTART;TZID=America/Los_Angeles:20260113T180000
DTEND;TZID=America/Los_Angeles:20260113T200000
DTSTAMP:20260420T080600
CREATED:20250928T000958Z
LAST-MODIFIED:20250928T000958Z
UID:3828-1768327200-1768334400@artxcursion.com
SUMMARY:Brushes & Brew: YEAR OF THE HORSE
DESCRIPTION:Artxcursion + Henhouse Brewing\, present Brushes and Brew Paint Night! \nJoin us in an introduction to color theory\, as we paint the night away! \nGuest will have the option of picking from 4-6 images that pertain to the evenings paint theme! \nArtist/Owner Alana Tillman of Artxcursion will be on hand\, providing you with the guidance and materials\, necessary to finish your very own masterpiece! \nTicket includes: \n• 9×12 Canvas. \n•Acrylic Paint \n• Materials \n• 2.5 hr guided paint session \n• One complimentary glass of Henhouse (Non-alcoholic options available \n•Select locations\, may have a food truck on site. If a food truck has not been scheduled\, food delivery services are encouraged. \n    \n 
URL:https://artxcursion.com/event/brushes-brew-year-of-the-horse/
LOCATION:Henhouse Brewing Company Petaluma\, 1333 N McDowell Blvd\, Petaluma\, CA\, 94954\, United States
CATEGORIES:Self Hosted
ATTACH;FMTTYPE=image/jpeg:https://artxcursion.com/wp-content/uploads/2025/09/IMG_20250925_104545_596.jpg
ORGANIZER;CN="ArtXcursion":MAILTO:info@artxcursion.com
END:VEVENT
END:VCALENDAR