BEGIN:VCALENDAR
VERSION:2.0
PRODID:-//ArtXcursion - ECPv6.15.20//NONSGML v1.0//EN
CALSCALE:GREGORIAN
METHOD:PUBLISH
X-WR-CALNAME:ArtXcursion
X-ORIGINAL-URL:https://artxcursion.com
X-WR-CALDESC:Events for ArtXcursion
REFRESH-INTERVAL;VALUE=DURATION:PT1H
X-Robots-Tag:noindex
X-PUBLISHED-TTL:PT1H
BEGIN:VTIMEZONE
TZID:America/Los_Angeles
BEGIN:DAYLIGHT
TZOFFSETFROM:-0800
TZOFFSETTO:-0700
TZNAME:PDT
DTSTART:20240310T100000
END:DAYLIGHT
BEGIN:STANDARD
TZOFFSETFROM:-0700
TZOFFSETTO:-0800
TZNAME:PST
DTSTART:20241103T090000
END:STANDARD
BEGIN:DAYLIGHT
TZOFFSETFROM:-0800
TZOFFSETTO:-0700
TZNAME:PDT
DTSTART:20250309T100000
END:DAYLIGHT
BEGIN:STANDARD
TZOFFSETFROM:-0700
TZOFFSETTO:-0800
TZNAME:PST
DTSTART:20251102T090000
END:STANDARD
BEGIN:DAYLIGHT
TZOFFSETFROM:-0800
TZOFFSETTO:-0700
TZNAME:PDT
DTSTART:20260308T100000
END:DAYLIGHT
BEGIN:STANDARD
TZOFFSETFROM:-0700
TZOFFSETTO:-0800
TZNAME:PST
DTSTART:20261101T090000
END:STANDARD
END:VTIMEZONE
BEGIN:VEVENT
DTSTART;TZID=America/Los_Angeles:20251014T180000
DTEND;TZID=America/Los_Angeles:20251014T200000
DTSTAMP:20260420T182130
CREATED:20250806T225520Z
LAST-MODIFIED:20250904T204723Z
UID:3348-1760464800-1760472000@artxcursion.com
SUMMARY:Bad And Boo-Jee Paint Night!
DESCRIPTION:Come on out for a SPOOKTACULAR evening of ghostly painting!\n\n\nArtxcursion Present to you\, Brushes + Brew: Bad and Boo-jee Paint Night!\nGrab your Boos and come on out\, for an evening of\, cold Brews + Painting!\nGuest will have the choice of choosing from 4-6 Ghost and Ghoul inspired images\, as painting inspiration!\nFor a lil extra Spirit\, come in your Halloween costume!\nArtist/Owner Alana Tillman will be on hand to inspire your designs and offer you helpful tips and tricks to create your very own masterpiece.\nTicket includes:\n• 9×12 Canvas.\n•Paint + Materials.\n•2.5 guided paint session\n• One complimentary glass of Henhouse (Non-alcoholic options available)\n•Select locations\, may have a food truck on site. If a food truck has not been scheduled\, food delivery services are encouraged.
URL:https://artxcursion.com/event/bad-and-boo-jee-paint-night/
LOCATION:HenHouse Brewing Company Palace of Barrels\, 1333 North McDowell Boulevard\, Petaluma\, CA\, 94954\, United States
ATTACH;FMTTYPE=image/jpeg:https://artxcursion.com/wp-content/uploads/2025/08/9cb725ce97a934d608793c427257bcdc.jpg
END:VEVENT
END:VCALENDAR