BEGIN:VCALENDAR
VERSION:2.0
PRODID:-//ArtXcursion - ECPv6.15.20//NONSGML v1.0//EN
CALSCALE:GREGORIAN
METHOD:PUBLISH
X-ORIGINAL-URL:https://artxcursion.com
X-WR-CALDESC:Events for ArtXcursion
REFRESH-INTERVAL;VALUE=DURATION:PT1H
X-Robots-Tag:noindex
X-PUBLISHED-TTL:PT1H
BEGIN:VTIMEZONE
TZID:America/Los_Angeles
BEGIN:DAYLIGHT
TZOFFSETFROM:-0800
TZOFFSETTO:-0700
TZNAME:PDT
DTSTART:20240310T100000
END:DAYLIGHT
BEGIN:STANDARD
TZOFFSETFROM:-0700
TZOFFSETTO:-0800
TZNAME:PST
DTSTART:20241103T090000
END:STANDARD
BEGIN:DAYLIGHT
TZOFFSETFROM:-0800
TZOFFSETTO:-0700
TZNAME:PDT
DTSTART:20250309T100000
END:DAYLIGHT
BEGIN:STANDARD
TZOFFSETFROM:-0700
TZOFFSETTO:-0800
TZNAME:PST
DTSTART:20251102T090000
END:STANDARD
BEGIN:DAYLIGHT
TZOFFSETFROM:-0800
TZOFFSETTO:-0700
TZNAME:PDT
DTSTART:20260308T100000
END:DAYLIGHT
BEGIN:STANDARD
TZOFFSETFROM:-0700
TZOFFSETTO:-0800
TZNAME:PST
DTSTART:20261101T090000
END:STANDARD
END:VTIMEZONE
BEGIN:VEVENT
DTSTART;TZID=America/Los_Angeles:20250909T180000
DTEND;TZID=America/Los_Angeles:20250909T200000
DTSTAMP:20260420T182649
CREATED:20250806T225459Z
LAST-MODIFIED:20250904T204722Z
UID:3344-1757440800-1757448000@artxcursion.com
SUMMARY:Flora and Fauna Paint Night!
DESCRIPTION:Join us for an  evening of painting and relaxation!\n\n\nJoin us in an introduction to color theory\, as we paint the night away! \n \nGuest will have the option of picking from 4-6 images that pertain to the evenings paint theme! \n \nArtist/Owner Alana Tillman of Artxcursion will be on hand\, providing you with the guidance and materials\, necessary to finish your very own masterpiece! \n \nTicket includes: \n \n• 9×12 Canvas. \n \n•Acrylic Paint \n \n• Materials  \n \n• 2.5 hr guided paint session \n \n• One complimentary glass of Henhouse (Non-alcoholic options available \n \n•Select locations\, may have a food truck on site. If a food truck has not been scheduled\, food delivery services are encouraged.
URL:https://artxcursion.com/event/flora-and-fauna-paint-night/
LOCATION:HenHouse Brewing Company Palace of Barrels\, 1333 North McDowell Boulevard\, Petaluma\, CA\, 94954\, United States
ATTACH;FMTTYPE=image/jpeg:https://artxcursion.com/wp-content/uploads/2025/08/ff7bda276da13e66e93449aa9b45c615.jpg
END:VEVENT
END:VCALENDAR