BEGIN:VCALENDAR
VERSION:2.0
PRODID:-//ArtXcursion - ECPv6.15.20//NONSGML v1.0//EN
CALSCALE:GREGORIAN
METHOD:PUBLISH
X-ORIGINAL-URL:https://artxcursion.com
X-WR-CALDESC:Events for ArtXcursion
REFRESH-INTERVAL;VALUE=DURATION:PT1H
X-Robots-Tag:noindex
X-PUBLISHED-TTL:PT1H
BEGIN:VTIMEZONE
TZID:America/Los_Angeles
BEGIN:DAYLIGHT
TZOFFSETFROM:-0800
TZOFFSETTO:-0700
TZNAME:PDT
DTSTART:20240310T100000
END:DAYLIGHT
BEGIN:STANDARD
TZOFFSETFROM:-0700
TZOFFSETTO:-0800
TZNAME:PST
DTSTART:20241103T090000
END:STANDARD
BEGIN:DAYLIGHT
TZOFFSETFROM:-0800
TZOFFSETTO:-0700
TZNAME:PDT
DTSTART:20250309T100000
END:DAYLIGHT
BEGIN:STANDARD
TZOFFSETFROM:-0700
TZOFFSETTO:-0800
TZNAME:PST
DTSTART:20251102T090000
END:STANDARD
BEGIN:DAYLIGHT
TZOFFSETFROM:-0800
TZOFFSETTO:-0700
TZNAME:PDT
DTSTART:20260308T100000
END:DAYLIGHT
BEGIN:STANDARD
TZOFFSETFROM:-0700
TZOFFSETTO:-0800
TZNAME:PST
DTSTART:20261101T090000
END:STANDARD
END:VTIMEZONE
BEGIN:VEVENT
DTSTART;TZID=America/Los_Angeles:20250820T180000
DTEND;TZID=America/Los_Angeles:20250820T200000
DTSTAMP:20260420T231453
CREATED:20250710T183938Z
LAST-MODIFIED:20250806T225527Z
UID:3334-1755712800-1755720000@artxcursion.com
SUMMARY:Paint Your Pet\, Paint Night!
DESCRIPTION:Looking for the perfect gift or activity for the animal lover in your life\, then this event is for you!\n\n\nYou all enjoyed the last pet portrait party so much\, that we had to do it again in 2025! \n \nLooking for the perfect gift or activity for the animal lover in your life\, then this event is for you! \n \n Here’s how it works  \n \nPlease submit 2-3 of your favorite pet pics in natural light\, to Artist/Owner Alana Tillman at info@artxcursion.com or DM on Instagram @artxcursion \n \nA rendering of your perfect pet will then be presented to you\, day of event\, for you to paint as you wish! (All Pet types Acceptable for submission.) \n \nNote: well behaved dogs on leash are welcomed! \n \nTicket includes: \n \n•9×12 Canvas \n \n•Paint + Materials. \n \n•2.5 hour private paint session  \n \n•Complimentary glass of Golden State Cider/ Seismic Brewing\, beverage of your choice. \n \n•Custom rendering of your perfect pet. (Line drawing) \n——————————————– \n*Pro-tip\, for an exceptional experience\, order food from a select list of Barlow restaurants\, to be delivered right to your table. See www.drinkgoldenstate.com for options
URL:https://artxcursion.com/event/paint-your-pet-paint-night/
LOCATION:Golden State Cider Taproom\, 180 Morris Street\, #Ste. 150\, Sebastopol\, CA\, 95472\, United States
ATTACH;FMTTYPE=image/jpeg:https://artxcursion.com/wp-content/uploads/2025/07/9c1ce2b8436ef88f666c22e3e1bfc6fb.jpg
END:VEVENT
END:VCALENDAR