BEGIN:VCALENDAR
VERSION:2.0
PRODID:-//ArtXcursion - ECPv6.15.20//NONSGML v1.0//EN
CALSCALE:GREGORIAN
METHOD:PUBLISH
X-ORIGINAL-URL:https://artxcursion.com
X-WR-CALDESC:Events for ArtXcursion
REFRESH-INTERVAL;VALUE=DURATION:PT1H
X-Robots-Tag:noindex
X-PUBLISHED-TTL:PT1H
BEGIN:VTIMEZONE
TZID:America/Los_Angeles
BEGIN:DAYLIGHT
TZOFFSETFROM:-0800
TZOFFSETTO:-0700
TZNAME:PDT
DTSTART:20240310T100000
END:DAYLIGHT
BEGIN:STANDARD
TZOFFSETFROM:-0700
TZOFFSETTO:-0800
TZNAME:PST
DTSTART:20241103T090000
END:STANDARD
BEGIN:DAYLIGHT
TZOFFSETFROM:-0800
TZOFFSETTO:-0700
TZNAME:PDT
DTSTART:20250309T100000
END:DAYLIGHT
BEGIN:STANDARD
TZOFFSETFROM:-0700
TZOFFSETTO:-0800
TZNAME:PST
DTSTART:20251102T090000
END:STANDARD
BEGIN:DAYLIGHT
TZOFFSETFROM:-0800
TZOFFSETTO:-0700
TZNAME:PDT
DTSTART:20260308T100000
END:DAYLIGHT
BEGIN:STANDARD
TZOFFSETFROM:-0700
TZOFFSETTO:-0800
TZNAME:PST
DTSTART:20261101T090000
END:STANDARD
END:VTIMEZONE
BEGIN:VEVENT
DTSTART;TZID=America/Los_Angeles:20250729T180000
DTEND;TZID=America/Los_Angeles:20250729T200000
DTSTAMP:20260420T231508
CREATED:20250710T182523Z
LAST-MODIFIED:20250806T225452Z
UID:3328-1753812000-1753819200@artxcursion.com
SUMMARY:Shark Paint Night!
DESCRIPTION:Join us for a Sharktastic paint night with our friends at HenHouse Brewing!\n\n\nShark week is right around the corner\, what better way to celebrate than with a shark themed paint night!\nBe delighted to an introduction to color theory\, as we paint the night away.\nGuest will have the option of picking from 4-6 images that pertain to the evenings paint theme.\nArtist/Owner Alana Tillman of Artxcursion will be on hand\, providing you with the guidance and materials\, necessary to finish your very own masterpiece!\nTicket includes:\n• 9×12 Canvas\n•2 hr Paint Session\n• Paint + Materials\n• Complimentary glass of Henhouse beer (Non-alcoholic options available )\n—————-‐——————–\n*Pro-tip\, for an exceptional experience\, order food from the food truck on site. If a food truck has not been scheduled\, delivery food service is encouraged.
URL:https://artxcursion.com/event/shark-paint-night/
LOCATION:HenHouse Brewing Company Palace of Barrels\, 1333 North McDowell Boulevard\, Petaluma\, CA\, 94954\, United States
ATTACH;FMTTYPE=image/jpeg:https://artxcursion.com/wp-content/uploads/2025/07/d28dcc5251953c8e5f92527e576fa3dc.jpg
END:VEVENT
END:VCALENDAR