BEGIN:VCALENDAR
VERSION:2.0
PRODID:-//ArtXcursion - ECPv6.15.20//NONSGML v1.0//EN
CALSCALE:GREGORIAN
METHOD:PUBLISH
X-ORIGINAL-URL:https://artxcursion.com
X-WR-CALDESC:Events for ArtXcursion
REFRESH-INTERVAL;VALUE=DURATION:PT1H
X-Robots-Tag:noindex
X-PUBLISHED-TTL:PT1H
BEGIN:VTIMEZONE
TZID:America/Los_Angeles
BEGIN:DAYLIGHT
TZOFFSETFROM:-0800
TZOFFSETTO:-0700
TZNAME:PDT
DTSTART:20240310T100000
END:DAYLIGHT
BEGIN:STANDARD
TZOFFSETFROM:-0700
TZOFFSETTO:-0800
TZNAME:PST
DTSTART:20241103T090000
END:STANDARD
BEGIN:DAYLIGHT
TZOFFSETFROM:-0800
TZOFFSETTO:-0700
TZNAME:PDT
DTSTART:20250309T100000
END:DAYLIGHT
BEGIN:STANDARD
TZOFFSETFROM:-0700
TZOFFSETTO:-0800
TZNAME:PST
DTSTART:20251102T090000
END:STANDARD
BEGIN:DAYLIGHT
TZOFFSETFROM:-0800
TZOFFSETTO:-0700
TZNAME:PDT
DTSTART:20260308T100000
END:DAYLIGHT
BEGIN:STANDARD
TZOFFSETFROM:-0700
TZOFFSETTO:-0800
TZNAME:PST
DTSTART:20261101T090000
END:STANDARD
END:VTIMEZONE
BEGIN:VEVENT
DTSTART;TZID=America/Los_Angeles:20250522T180000
DTEND;TZID=America/Los_Angeles:20250522T200000
DTSTAMP:20260421T071031
CREATED:20250416T215730Z
LAST-MODIFIED:20250416T215730Z
UID:2715-1747936800-1747944000@artxcursion.com
SUMMARY:A Pirates Life For Me Paint Night!
DESCRIPTION:All you swashbucklers\, come on out for a pirate themed a paint night\, and dont forget your booty!\n\n\nCalling all you SWASHBUCKLERS\, this Brushes + Brew is for you! \n \nJoin us for a night of painting and pirating as we set sail on a voyage to Henhouse Brewing Co.  \n \nWe’ll start with an introduction to color theory\, as we paint the night away! \n \nGuest will have the option of picking from 4-6 images that pertain to A pirates life! \n \nArtist/Owner Alana Tillman of Artxcursion will be on hand\, providing you with the guidance and materials\, necessary to finish your very own masterpiece! \n \nTicket includes: \n \n• 9×12 Canvas. \n \n•Acrylic Paint \n \n• Art Materials + Stencils  \n \n• 2.5 hr guided paint session \n \n• One complimentary glass of Henhouse (Non-alcoholic options available \n \n•Select locations\, may have a food truck on site. If a food truck has not been scheduled\, food delivery services are encouraged.
URL:https://artxcursion.com/event/a-pirates-life-for-me-paint-night/
LOCATION:HenHouse Brewing Company\, 322 Bellevue Avenue\, Santa Rosa\, CA\, 95407\, United States
ATTACH;FMTTYPE=image/jpeg:https://artxcursion.com/wp-content/uploads/2025/04/2f17927386621e42443a6a227367f648.jpg
END:VEVENT
END:VCALENDAR