BEGIN:VCALENDAR
VERSION:2.0
PRODID:-//ArtXcursion - ECPv6.15.20//NONSGML v1.0//EN
CALSCALE:GREGORIAN
METHOD:PUBLISH
X-ORIGINAL-URL:https://artxcursion.com
X-WR-CALDESC:Events for ArtXcursion
REFRESH-INTERVAL;VALUE=DURATION:PT1H
X-Robots-Tag:noindex
X-PUBLISHED-TTL:PT1H
BEGIN:VTIMEZONE
TZID:America/Los_Angeles
BEGIN:DAYLIGHT
TZOFFSETFROM:-0800
TZOFFSETTO:-0700
TZNAME:PDT
DTSTART:20240310T100000
END:DAYLIGHT
BEGIN:STANDARD
TZOFFSETFROM:-0700
TZOFFSETTO:-0800
TZNAME:PST
DTSTART:20241103T090000
END:STANDARD
BEGIN:DAYLIGHT
TZOFFSETFROM:-0800
TZOFFSETTO:-0700
TZNAME:PDT
DTSTART:20250309T100000
END:DAYLIGHT
BEGIN:STANDARD
TZOFFSETFROM:-0700
TZOFFSETTO:-0800
TZNAME:PST
DTSTART:20251102T090000
END:STANDARD
BEGIN:DAYLIGHT
TZOFFSETFROM:-0800
TZOFFSETTO:-0700
TZNAME:PDT
DTSTART:20260308T100000
END:DAYLIGHT
BEGIN:STANDARD
TZOFFSETFROM:-0700
TZOFFSETTO:-0800
TZNAME:PST
DTSTART:20261101T090000
END:STANDARD
END:VTIMEZONE
BEGIN:VEVENT
DTSTART;TZID=America/Los_Angeles:20250513T180000
DTEND;TZID=America/Los_Angeles:20250513T200000
DTSTAMP:20260421T083401
CREATED:20250325T041732Z
LAST-MODIFIED:20250407T014038Z
UID:2687-1747159200-1747166400@artxcursion.com
SUMMARY:Under The Big Top Paint Night!
DESCRIPTION:Come one\, come all\, to the greatest Paint Night in town!\n\n\nBe delighted to an introduction to color theory\, as we paint the night away! \n  \nGuest will have the option of picking from 4-6 images that pertain to the CIRCUS theme. \n  \nArtist/Owner Alana Tillman of Artxcursion will be on hand\, providing you with the guidance and materials\, necessary to finish your very own masterpiece! \n  \nTicket includes: \n  \n• 9×12 Canvas. \n  \n•Acrylic Paint \n  \n• Art Materials + Stencils \n  \n• 2.5 hr guided paint session \n  \n• One complimentary glass of Henhouse (Non-alcoholic options available \n  \n•Select locations\, may have a food truck on site. If a food truck has not been scheduled\, food delivery services are encouraged
URL:https://artxcursion.com/event/under-the-big-top-paint-night-2/
LOCATION:HenHouse Brewing Company Palace of Barrels\, 1333 North McDowell Boulevard\, Petaluma\, CA\, 94954\, United States
ATTACH;FMTTYPE=image/jpeg:https://artxcursion.com/wp-content/uploads/2025/03/IMG_20250406_175656.jpg
END:VEVENT
END:VCALENDAR