BEGIN:VCALENDAR
VERSION:2.0
PRODID:-//ArtXcursion - ECPv6.15.20//NONSGML v1.0//EN
CALSCALE:GREGORIAN
METHOD:PUBLISH
X-WR-CALNAME:ArtXcursion
X-ORIGINAL-URL:https://artxcursion.com
X-WR-CALDESC:Events for ArtXcursion
REFRESH-INTERVAL;VALUE=DURATION:PT1H
X-Robots-Tag:noindex
X-PUBLISHED-TTL:PT1H
BEGIN:VTIMEZONE
TZID:America/Los_Angeles
BEGIN:DAYLIGHT
TZOFFSETFROM:-0800
TZOFFSETTO:-0700
TZNAME:PDT
DTSTART:20240310T100000
END:DAYLIGHT
BEGIN:STANDARD
TZOFFSETFROM:-0700
TZOFFSETTO:-0800
TZNAME:PST
DTSTART:20241103T090000
END:STANDARD
BEGIN:DAYLIGHT
TZOFFSETFROM:-0800
TZOFFSETTO:-0700
TZNAME:PDT
DTSTART:20250309T100000
END:DAYLIGHT
BEGIN:STANDARD
TZOFFSETFROM:-0700
TZOFFSETTO:-0800
TZNAME:PST
DTSTART:20251102T090000
END:STANDARD
BEGIN:DAYLIGHT
TZOFFSETFROM:-0800
TZOFFSETTO:-0700
TZNAME:PDT
DTSTART:20260308T100000
END:DAYLIGHT
BEGIN:STANDARD
TZOFFSETFROM:-0700
TZOFFSETTO:-0800
TZNAME:PST
DTSTART:20261101T090000
END:STANDARD
END:VTIMEZONE
BEGIN:VEVENT
DTSTART;TZID=America/Los_Angeles:20250510T130000
DTEND;TZID=America/Los_Angeles:20250510T150000
DTSTAMP:20260421T070145
CREATED:20250305T194647Z
LAST-MODIFIED:20250413T235105Z
UID:2668-1746882000-1746889200@artxcursion.com
SUMMARY:Nourished Paint Party!
DESCRIPTION:Experience\, the bounty\, Sonoma County has to off with a farm to table inspired paint party!\n\n\nExperience\, the bounty\, Sonoma County has to offer and be Nourished mind\, body and spirit with an afternoon of farm to table inspired painting! \n  \nWe’re bringing the art of Farm to Table\, right to your canvas as you paint seasonal prodce\, to inspire your creativity. \n  \nGuest will receive 3-4 options to choose from\, for their painting inspiration. \n  \nWe’ll kick off the afternoon with a little Mingling followed by locally sourced small bites and sips\, then finish up with a comprehensive painting tutorial. \n  \n  \nTICKETS INCLUDE \n• 9×12 Canvas \n•Acrylic paint/materials \n•2 hours guided paint session \n•locally sourced seasonal charcuterie. \n•Sips of refreshing cucumber water or ice tea. \n  \nNOTE: Contact us at least 3 days in advance for any food allergies or concerns\, so we may better accommodate you \n 
URL:https://artxcursion.com/event/nourished-paint-party/
LOCATION:First United Methodist Church of Santa Rosa\, 1551 Montgomery Drive\, Santa Rosa\, CA\, 95405\, United States
ATTACH;FMTTYPE=image/jpeg:https://artxcursion.com/wp-content/uploads/2025/03/instasize_250307100823.jpg
END:VEVENT
END:VCALENDAR