BEGIN:VCALENDAR
VERSION:2.0
PRODID:-//ArtXcursion - ECPv6.15.20//NONSGML v1.0//EN
CALSCALE:GREGORIAN
METHOD:PUBLISH
X-ORIGINAL-URL:https://artxcursion.com
X-WR-CALDESC:Events for ArtXcursion
REFRESH-INTERVAL;VALUE=DURATION:PT1H
X-Robots-Tag:noindex
X-PUBLISHED-TTL:PT1H
BEGIN:VTIMEZONE
TZID:America/Los_Angeles
BEGIN:DAYLIGHT
TZOFFSETFROM:-0800
TZOFFSETTO:-0700
TZNAME:PDT
DTSTART:20240310T100000
END:DAYLIGHT
BEGIN:STANDARD
TZOFFSETFROM:-0700
TZOFFSETTO:-0800
TZNAME:PST
DTSTART:20241103T090000
END:STANDARD
BEGIN:DAYLIGHT
TZOFFSETFROM:-0800
TZOFFSETTO:-0700
TZNAME:PDT
DTSTART:20250309T100000
END:DAYLIGHT
BEGIN:STANDARD
TZOFFSETFROM:-0700
TZOFFSETTO:-0800
TZNAME:PST
DTSTART:20251102T090000
END:STANDARD
BEGIN:DAYLIGHT
TZOFFSETFROM:-0800
TZOFFSETTO:-0700
TZNAME:PDT
DTSTART:20260308T100000
END:DAYLIGHT
BEGIN:STANDARD
TZOFFSETFROM:-0700
TZOFFSETTO:-0800
TZNAME:PST
DTSTART:20261101T090000
END:STANDARD
END:VTIMEZONE
BEGIN:VEVENT
DTSTART;TZID=America/Los_Angeles:20250323T170000
DTEND;TZID=America/Los_Angeles:20250323T190000
DTSTAMP:20260422T062406
CREATED:20250111T120151Z
LAST-MODIFIED:20250126T031733Z
UID:2523-1742749200-1742756400@artxcursion.com
SUMMARY:Pollinator Sip + Paint!
DESCRIPTION:Join us in celebrating Springs abundance with a sip + paint  party!\n\n\nSpring is here which means it’s time to celebrate the beauty Sonoma County has bestowed apon us!\nJoin us for an evening of sips\, nibbles and confections as well as spring inspired painting\, with Chef Robert Nieto\, fondly named Chef Buttercup of Fleur Sauvage Chocolates!\nThe evening will start with light bites and sips as we mingle and settle in. Followed by a short painting tutorial and session.\nArtist/Owner Alana Tillman of Artxcursion will join us\, providing you with the materials and guidance necessary to finish your piece.\nTicket includes:\n– 9×12 Canvas.\n-Paint and materials.\n-Locally sourced seasonal charcuterie.\n-a small assorted box of Fleur Sauvage Chocolates\n– Sips provided by Dennis McCarter of McCarter Cellars\nNOTE: Contact us at least 3 days in advance for any food allergies or concerns\, so we may better accommodate you.
URL:https://artxcursion.com/event/pollinator-sip-paint/
LOCATION:Fleur Sauvage Chocolates\, 370 Windsor River Road\, Windsor\, CA\, 95492\, United States
ATTACH;FMTTYPE=image/jpeg:https://artxcursion.com/wp-content/uploads/2025/01/e81da9c1bee7095e663c9aa9a97e3da9-1.jpg
END:VEVENT
END:VCALENDAR