BEGIN:VCALENDAR
VERSION:2.0
PRODID:-//ArtXcursion - ECPv6.15.20//NONSGML v1.0//EN
CALSCALE:GREGORIAN
METHOD:PUBLISH
X-ORIGINAL-URL:https://artxcursion.com
X-WR-CALDESC:Events for ArtXcursion
REFRESH-INTERVAL;VALUE=DURATION:PT1H
X-Robots-Tag:noindex
X-PUBLISHED-TTL:PT1H
BEGIN:VTIMEZONE
TZID:America/Los_Angeles
BEGIN:DAYLIGHT
TZOFFSETFROM:-0800
TZOFFSETTO:-0700
TZNAME:PDT
DTSTART:20240310T100000
END:DAYLIGHT
BEGIN:STANDARD
TZOFFSETFROM:-0700
TZOFFSETTO:-0800
TZNAME:PST
DTSTART:20241103T090000
END:STANDARD
BEGIN:DAYLIGHT
TZOFFSETFROM:-0800
TZOFFSETTO:-0700
TZNAME:PDT
DTSTART:20250309T100000
END:DAYLIGHT
BEGIN:STANDARD
TZOFFSETFROM:-0700
TZOFFSETTO:-0800
TZNAME:PST
DTSTART:20251102T090000
END:STANDARD
BEGIN:DAYLIGHT
TZOFFSETFROM:-0800
TZOFFSETTO:-0700
TZNAME:PDT
DTSTART:20260308T100000
END:DAYLIGHT
BEGIN:STANDARD
TZOFFSETFROM:-0700
TZOFFSETTO:-0800
TZNAME:PST
DTSTART:20261101T090000
END:STANDARD
END:VTIMEZONE
BEGIN:VEVENT
DTSTART;TZID=America/Los_Angeles:20250320T180000
DTEND;TZID=America/Los_Angeles:20250320T200000
DTSTAMP:20260422T151735
CREATED:20250117T160631Z
LAST-MODIFIED:20250126T031732Z
UID:2550-1742493600-1742500800@artxcursion.com
SUMMARY:Who Rules The Roost\, Paint Night!
DESCRIPTION:Grab your crew and come on out for an evening of brushes + Brews\, with our friends at HenHouse!\n\n\nWHO RULES THE ROOST? \n \nJoin us for an introduction to color theory\, as we paint the night away! \n \nGuest will have the option of picking from 4-6 images that pertain to the Rooster + Hen paint theme! \n \nArtist/Owner Alana Tillman of Artxcursion will be on hand\, providing you with the guidance and materials\, necessary to finish your very own masterpiece! \n \nTicket includes: \n \n• 9×12 Canvas. \n \n•Acrylic Paint \n \n• Art Materials + Stencils  \n \n• 2.5 hr guided paint session \n \n• One complimentary glass of Henhouse (Non-alcoholic options available \n \n•Select locations\, may have a food truck on site. If a food truck has not been scheduled\, food delivery services are encouraged.
URL:https://artxcursion.com/event/who-rules-the-roost-paint-night/
LOCATION:HenHouse Brewing Company\, 322 Bellevue Avenue\, Santa Rosa\, CA\, 95407\, United States
ATTACH;FMTTYPE=image/jpeg:https://artxcursion.com/wp-content/uploads/2025/01/3af3d164c8b2f5752d065e259149b91e-1.jpg
END:VEVENT
END:VCALENDAR